BEGIN:VCALENDAR
VERSION:2.0
PRODID:-//Paul Strickland Scanner Centre - ECPv6.15.20//NONSGML v1.0//EN
CALSCALE:GREGORIAN
METHOD:PUBLISH
X-ORIGINAL-URL:https://stricklandscanner.org.uk
X-WR-CALDESC:Events for Paul Strickland Scanner Centre
REFRESH-INTERVAL;VALUE=DURATION:PT1H
X-Robots-Tag:noindex
X-PUBLISHED-TTL:PT1H
BEGIN:VTIMEZONE
TZID:Europe/London
BEGIN:DAYLIGHT
TZOFFSETFROM:+0000
TZOFFSETTO:+0100
TZNAME:BST
DTSTART:20250330T010000
END:DAYLIGHT
BEGIN:STANDARD
TZOFFSETFROM:+0100
TZOFFSETTO:+0000
TZNAME:GMT
DTSTART:20251026T010000
END:STANDARD
BEGIN:DAYLIGHT
TZOFFSETFROM:+0000
TZOFFSETTO:+0100
TZNAME:BST
DTSTART:20260329T010000
END:DAYLIGHT
BEGIN:STANDARD
TZOFFSETFROM:+0100
TZOFFSETTO:+0000
TZNAME:GMT
DTSTART:20261025T010000
END:STANDARD
BEGIN:DAYLIGHT
TZOFFSETFROM:+0000
TZOFFSETTO:+0100
TZNAME:BST
DTSTART:20270328T010000
END:DAYLIGHT
BEGIN:STANDARD
TZOFFSETFROM:+0100
TZOFFSETTO:+0000
TZNAME:GMT
DTSTART:20271031T010000
END:STANDARD
BEGIN:DAYLIGHT
TZOFFSETFROM:+0000
TZOFFSETTO:+0100
TZNAME:BST
DTSTART:20280326T010000
END:DAYLIGHT
BEGIN:STANDARD
TZOFFSETFROM:+0100
TZOFFSETTO:+0000
TZNAME:GMT
DTSTART:20281029T010000
END:STANDARD
BEGIN:DAYLIGHT
TZOFFSETFROM:+0000
TZOFFSETTO:+0100
TZNAME:BST
DTSTART:20290325T010000
END:DAYLIGHT
BEGIN:STANDARD
TZOFFSETFROM:+0100
TZOFFSETTO:+0000
TZNAME:GMT
DTSTART:20291028T010000
END:STANDARD
END:VTIMEZONE
BEGIN:VEVENT
DTSTART;VALUE=DATE:20260101
DTEND;VALUE=DATE:20280102
DTSTAMP:20260421T175858
CREATED:20230926T140120Z
LAST-MODIFIED:20251118T094310Z
UID:1553-1767225600-1830383999@stricklandscanner.org.uk
SUMMARY:Challenge of a lifetime
DESCRIPTION:Take on a challenge of a lifetime\nALL YEAR and anywhere! \nTrek\, Walk\, Hike\, Run\, Cycle….\, we can help you find the one for you. \nGet in touch today to find out more. \nBy raising sponsorship for your challenge\, you will help our future patients.
URL:https://stricklandscanner.org.uk/event/challenges/
CATEGORIES:Challenge
ATTACH;FMTTYPE=image/jpeg:https://stricklandscanner.org.uk/wp-content/uploads/2023/09/Iceland-challenges-1200x800-1-e1698758469892.jpg
END:VEVENT
BEGIN:VEVENT
DTSTART;TZID=Europe/London:20260318T103000
DTEND;TZID=Europe/London:20260318T150000
DTSTAMP:20260421T175858
CREATED:20230920T115755Z
LAST-MODIFIED:20260304T092701Z
UID:1568-1773829800-1773846000@stricklandscanner.org.uk
SUMMARY:Bridge Drive - SOLD OUT
DESCRIPTION:SOLD OUT \nA day of Chicago Bridge with lunch on Wednesday 18th March 2026 at Moor Park Golf Club. \nOur annual Bridge Drive at Moor Park Golf Club will take place on Wednesday 18 March.  This is an extremely popular event so if you would like to take part\, please book as early as possible before it sells out. \nThe day starts with coffee on arrival from 10.30am with a break for lunch in the middle of the day. \nThe format is Chicago Bridge and booking fee of £32 pp includes lunch and coffee. \nTo book please complete the attached booking form and return. \nFor any queries\, please email appeals@stricklandscanner.org.uk
URL:https://stricklandscanner.org.uk/event/bridge-drive/
LOCATION:Moor Park Golf Club\, Rickmansworth\, Hertfordshire\, WD3 1QN
CATEGORIES:Fundraising event
ATTACH;FMTTYPE=image/png:https://stricklandscanner.org.uk/wp-content/uploads/2023/09/Bridge-Drive-Cards-compress-e1698758190461.png
END:VEVENT
END:VCALENDAR